BEGIN:VCALENDAR
VERSION:2.0
PRODID:-//Tatai Vadlúd Sokadalom - ECPv6.15.20//NONSGML v1.0//EN
CALSCALE:GREGORIAN
METHOD:PUBLISH
X-WR-CALNAME:Tatai Vadlúd Sokadalom
X-ORIGINAL-URL:https://vadludsokadalom.hu
X-WR-CALDESC:Események Tatai Vadlúd Sokadalom
REFRESH-INTERVAL;VALUE=DURATION:PT1H
X-Robots-Tag:noindex
X-PUBLISHED-TTL:PT1H
BEGIN:VTIMEZONE
TZID:Europe/Helsinki
BEGIN:DAYLIGHT
TZOFFSETFROM:+0200
TZOFFSETTO:+0300
TZNAME:EEST
DTSTART:20240331T010000
END:DAYLIGHT
BEGIN:STANDARD
TZOFFSETFROM:+0300
TZOFFSETTO:+0200
TZNAME:EET
DTSTART:20241027T010000
END:STANDARD
BEGIN:DAYLIGHT
TZOFFSETFROM:+0200
TZOFFSETTO:+0300
TZNAME:EEST
DTSTART:20250330T010000
END:DAYLIGHT
BEGIN:STANDARD
TZOFFSETFROM:+0300
TZOFFSETTO:+0200
TZNAME:EET
DTSTART:20251026T010000
END:STANDARD
BEGIN:DAYLIGHT
TZOFFSETFROM:+0200
TZOFFSETTO:+0300
TZNAME:EEST
DTSTART:20260329T010000
END:DAYLIGHT
BEGIN:STANDARD
TZOFFSETFROM:+0300
TZOFFSETTO:+0200
TZNAME:EET
DTSTART:20261025T010000
END:STANDARD
END:VTIMEZONE
BEGIN:VEVENT
DTSTART;TZID=Europe/Helsinki:20251122T061500
DTEND;TZID=Europe/Helsinki:20251122T093000
DTSTAMP:20260423T123343
CREATED:20250902T153043Z
LAST-MODIFIED:20250902T154237Z
UID:7940-1763792100-1763803800@vadludsokadalom.hu
SUMMARY:Szombati kihúzás
DESCRIPTION:A túra alatt szakvezető segítségével csodálhatják meg a Tatára érkező északi vadludak napi mozgalmát Tata város barokk környezetével a háttérben. A madarak reggel kirepülnek a táplálkozó területre\, míg este visszatérnek a biztonságot nyújtó Öreg-tó medrébe.  A madarak megfigyeléséhez több nagy nagyítású teleszkóp is rendelkezésre fog állni. \nTalálkozóhely:  \nTóparti madármegfigyelő torony \nGPS koordináta: 47.63852\, 018.33915 \nAz eseményen való részvételhez REGISZTRÁCIÓRA van szükség. A túrákon maximum 25 fő vehet részt (számláló a regisztrációs gomb felett). Amennyiben többen érkeznének\, kérem végezzék el minden résztvevő számára a rövid regisztrációs folyamatot. Köszönjük!
URL:https://vadludsokadalom.hu/esemeny/szombati-kihuzas/
LOCATION:Madármegfigyelő torony\, Madármegfigyelő torony\, Tata\, 2890\, Magyarország
END:VEVENT
BEGIN:VEVENT
DTSTART;TZID=Europe/Helsinki:20251122T150000
DTEND;TZID=Europe/Helsinki:20251122T170000
DTSTAMP:20260423T123343
CREATED:20250902T154213Z
LAST-MODIFIED:20251114T153804Z
UID:7943-1763823600-1763830800@vadludsokadalom.hu
SUMMARY:Szombati behúzás
DESCRIPTION:A túra alatt szakvezető segítségével csodálhatják meg a Tatára érkező északi vadludak napi mozgalmát Tata város barokk környezetével a háttérben. A madarak reggel kirepülnek a táplálkozó területre\, míg este visszatérnek a biztonságot nyújtó Öreg-tó medrébe.  A madarak megfigyeléséhez több nagy nagyítású teleszkóp is rendelkezésre fog állni. \nTalálkozóhely:  \nEsterházy-lovarda \nGPS koordináta: 47.643398\, 018.322261 \nAz eseményen való részvételhez REGISZTRÁCIÓRA van szükség. A túrákon maximum 25 fő vehet részt (számláló a regisztrációs gomb felett). Amennyiben többen érkeznének\, kérem végezzék el minden résztvevő számára a rövid regisztrációs folyamatot. Köszönjük!
URL:https://vadludsokadalom.hu/esemeny/szombati-behuzas/
LOCATION:Tatai Esterházy-lovarda\, Tata\, Kastély tér 3\, 2890
END:VEVENT
BEGIN:VEVENT
DTSTART;TZID=Europe/Helsinki:20251123T150000
DTEND;TZID=Europe/Helsinki:20251123T170000
DTSTAMP:20260423T123343
CREATED:20250902T154402Z
LAST-MODIFIED:20251114T153802Z
UID:7945-1763910000-1763917200@vadludsokadalom.hu
SUMMARY:Vasárnapi behúzás
DESCRIPTION:A túra alatt szakvezető segítségével csodálhatják meg a Tatára érkező északi vadludak napi mozgalmát Tata város barokk környezetével a háttérben. A madarak reggel kirepülnek a táplálkozó területre\, míg este visszatérnek a biztonságot nyújtó Öreg-tó medrébe.  A madarak megfigyeléséhez több nagy nagyítású teleszkóp is rendelkezésre fog állni. \nTalálkozóhely:  \nEsterházy-lovarda \nGPS koordináta: 47.643398\, 018.322261 \nAz eseményen való részvételhez REGISZTRÁCIÓRA van szükség. A túrákon maximum 25 fő vehet részt (számláló a regisztrációs gomb felett). Amennyiben többen érkeznének\, kérem végezzék el minden résztvevő számára a rövid regisztrációs folyamatot. Köszönjük!
URL:https://vadludsokadalom.hu/esemeny/vasarnapi-behuzas/
LOCATION:Tatai Esterházy-lovarda\, Tata\, Kastély tér 3\, 2890
END:VEVENT
BEGIN:VEVENT
DTSTART;TZID=Europe/Helsinki:20251206T061500
DTEND;TZID=Europe/Helsinki:20251206T093000
DTSTAMP:20260423T123343
CREATED:20250902T154634Z
LAST-MODIFIED:20250924T190020Z
UID:7947-1765001700-1765013400@vadludsokadalom.hu
SUMMARY:Szombati kihúzás
DESCRIPTION:A túra alatt szakvezető segítségével csodálhatják meg a Tatára érkező északi vadludak napi mozgalmát Tata város barokk környezetével a háttérben. A madarak reggel kirepülnek a táplálkozó területre\, míg este visszatérnek a biztonságot nyújtó Öreg-tó medrébe.  A madarak megfigyeléséhez több nagy nagyítású teleszkóp is rendelkezésre fog állni. \nTalálkozóhely:  \nTóparti madármegfigyelő torony \nGPS koordináta: 47.63852\, 018.33915 \nAz eseményen való részvételhez REGISZTRÁCIÓRA van szükség. A túrákon maximum 25 fő vehet részt (számláló a regisztrációs gomb felett). Amennyiben többen érkeznének\, kérem végezzék el minden résztvevő számára a rövid regisztrációs folyamatot. Köszönjük!
URL:https://vadludsokadalom.hu/esemeny/szombati-kihuzas-5/
LOCATION:Madármegfigyelő torony\, Madármegfigyelő torony\, Tata\, 2890\, Magyarország
END:VEVENT
BEGIN:VEVENT
DTSTART;TZID=Europe/Helsinki:20251206T150000
DTEND;TZID=Europe/Helsinki:20251206T170000
DTSTAMP:20260423T123343
CREATED:20250902T154752Z
LAST-MODIFIED:20250924T190042Z
UID:7949-1765033200-1765040400@vadludsokadalom.hu
SUMMARY:Szombati behúzás
DESCRIPTION:A túra alatt szakvezető segítségével csodálhatják meg a Tatára érkező északi vadludak napi mozgalmát Tata város barokk környezetével a háttérben. A madarak reggel kirepülnek a táplálkozó területre\, míg este visszatérnek a biztonságot nyújtó Öreg-tó medrébe.  A madarak megfigyeléséhez több nagy nagyítású teleszkóp is rendelkezésre fog állni. \nTalálkozóhely:  \nTóparti madármegfigyelő torony \nGPS koordináta: 47.63852\, 018.33915 \nAz eseményen való részvételhez REGISZTRÁCIÓRA van szükség. A túrákon maximum 25 fő vehet részt (számláló a regisztrációs gomb felett). Amennyiben többen érkeznének\, kérem végezzék el minden résztvevő számára a rövid regisztrációs folyamatot. Köszönjük!
URL:https://vadludsokadalom.hu/esemeny/szombati-behuzas-5/
LOCATION:Madármegfigyelő torony\, Madármegfigyelő torony\, Tata\, 2890\, Magyarország
END:VEVENT
BEGIN:VEVENT
DTSTART;TZID=Europe/Helsinki:20251207T150000
DTEND;TZID=Europe/Helsinki:20251207T170000
DTSTAMP:20260423T123343
CREATED:20250924T190916Z
LAST-MODIFIED:20250924T190916Z
UID:8100-1765119600-1765126800@vadludsokadalom.hu
SUMMARY:Vasárnapi behúzás
DESCRIPTION:A túra alatt szakvezető segítségével csodálhatják meg a Tatára érkező északi vadludak napi mozgalmát Tata város barokk környezetével a háttérben. A madarak reggel kirepülnek a táplálkozó területre\, míg este visszatérnek a biztonságot nyújtó Öreg-tó medrébe.  A madarak megfigyeléséhez több nagy nagyítású teleszkóp is rendelkezésre fog állni. \nTalálkozóhely:  \nTóparti madármegfigyelő torony \nGPS koordináta: 47.63852\, 018.33915 \nAz eseményen való részvételhez REGISZTRÁCIÓRA van szükség. A túrákon maximum 25 fő vehet részt (számláló a regisztrációs gomb felett). Amennyiben többen érkeznének\, kérem végezzék el minden résztvevő számára a rövid regisztrációs folyamatot. Köszönjük!
URL:https://vadludsokadalom.hu/esemeny/vasarnapi-behuzas-6/
LOCATION:Madármegfigyelő torony\, Madármegfigyelő torony\, Tata\, 2890\, Magyarország
END:VEVENT
BEGIN:VEVENT
DTSTART;TZID=Europe/Helsinki:20251213T061500
DTEND;TZID=Europe/Helsinki:20251213T093000
DTSTAMP:20260423T123343
CREATED:20250907T105209Z
LAST-MODIFIED:20250924T190443Z
UID:7951-1765606500-1765618200@vadludsokadalom.hu
SUMMARY:Szombati kihúzás
DESCRIPTION:A túra alatt szakvezető segítségével csodálhatják meg a Tatára érkező északi vadludak napi mozgalmát Tata város barokk környezetével a háttérben. A madarak reggel kirepülnek a táplálkozó területre\, míg este visszatérnek a biztonságot nyújtó Öreg-tó medrébe.  A madarak megfigyeléséhez több nagy nagyítású teleszkóp is rendelkezésre fog állni. \nTalálkozóhely:  \nTóparti madármegfigyelő torony \nGPS koordináta: 47.63852\, 018.33915 \nAz eseményen való részvételhez REGISZTRÁCIÓRA van szükség. A túrákon maximum 25 fő vehet részt (számláló a regisztrációs gomb felett). Amennyiben többen érkeznének\, kérem végezzék el minden résztvevő számára a rövid regisztrációs folyamatot. Köszönjük!
URL:https://vadludsokadalom.hu/esemeny/szombati-kihuzas-6/
LOCATION:Madármegfigyelő torony\, Madármegfigyelő torony\, Tata\, 2890\, Magyarország
END:VEVENT
BEGIN:VEVENT
DTSTART;TZID=Europe/Helsinki:20251213T150000
DTEND;TZID=Europe/Helsinki:20251213T170000
DTSTAMP:20260423T123343
CREATED:20250907T105324Z
LAST-MODIFIED:20250924T190452Z
UID:7953-1765638000-1765645200@vadludsokadalom.hu
SUMMARY:Szombati behúzás
DESCRIPTION:A túra alatt szakvezető segítségével csodálhatják meg a Tatára érkező északi vadludak napi mozgalmát Tata város barokk környezetével a háttérben. A madarak reggel kirepülnek a táplálkozó területre\, míg este visszatérnek a biztonságot nyújtó Öreg-tó medrébe.  A madarak megfigyeléséhez több nagy nagyítású teleszkóp is rendelkezésre fog állni. \nTalálkozóhely:  \nTóparti madármegfigyelő torony \nGPS koordináta: 47.63852\, 018.33915 \nAz eseményen való részvételhez REGISZTRÁCIÓRA van szükség. A túrákon maximum 25 fő vehet részt (számláló a regisztrációs gomb felett). Amennyiben többen érkeznének\, kérem végezzék el minden résztvevő számára a rövid regisztrációs folyamatot. Köszönjük!
URL:https://vadludsokadalom.hu/esemeny/szombati-behuzas-6/
LOCATION:Madármegfigyelő torony\, Madármegfigyelő torony\, Tata\, 2890\, Magyarország
END:VEVENT
BEGIN:VEVENT
DTSTART;TZID=Europe/Helsinki:20251214T150000
DTEND;TZID=Europe/Helsinki:20251214T170000
DTSTAMP:20260423T123343
CREATED:20250907T105508Z
LAST-MODIFIED:20250907T105508Z
UID:7955-1765724400-1765731600@vadludsokadalom.hu
SUMMARY:Vasárnapi behúzás
DESCRIPTION:A túra alatt szakvezető segítségével csodálhatják meg a Tatára érkező északi vadludak napi mozgalmát Tata város barokk környezetével a háttérben. A madarak reggel kirepülnek a táplálkozó területre\, míg este visszatérnek a biztonságot nyújtó Öreg-tó medrébe.  A madarak megfigyeléséhez több nagy nagyítású teleszkóp is rendelkezésre fog állni. \nTalálkozóhely:  \nTóparti madármegfigyelő torony \nGPS koordináta: 47.63852\, 018.33915 \nAz eseményen való részvételhez REGISZTRÁCIÓRA van szükség. A túrákon maximum 25 fő vehet részt (számláló a regisztrációs gomb felett). Amennyiben többen érkeznének\, kérem végezzék el minden résztvevő számára a rövid regisztrációs folyamatot. Köszönjük!
URL:https://vadludsokadalom.hu/esemeny/vasarnapi-behuzas-5/
LOCATION:Madármegfigyelő torony\, Madármegfigyelő torony\, Tata\, 2890\, Magyarország
END:VEVENT
END:VCALENDAR